BEGIN:VCALENDAR
VERSION:2.0
PRODID:-//mgv-windheim.de - ECPv6.15.20//NONSGML v1.0//EN
CALSCALE:GREGORIAN
METHOD:PUBLISH
X-WR-CALNAME:mgv-windheim.de
X-ORIGINAL-URL:https://mgv-windheim.de
X-WR-CALDESC:Veranstaltungen für mgv-windheim.de
REFRESH-INTERVAL;VALUE=DURATION:PT1H
X-Robots-Tag:noindex
X-PUBLISHED-TTL:PT1H
BEGIN:VTIMEZONE
TZID:Europe/Berlin
BEGIN:DAYLIGHT
TZOFFSETFROM:+0100
TZOFFSETTO:+0200
TZNAME:CEST
DTSTART:20250330T010000
END:DAYLIGHT
BEGIN:STANDARD
TZOFFSETFROM:+0200
TZOFFSETTO:+0100
TZNAME:CET
DTSTART:20251026T010000
END:STANDARD
BEGIN:DAYLIGHT
TZOFFSETFROM:+0100
TZOFFSETTO:+0200
TZNAME:CEST
DTSTART:20260329T010000
END:DAYLIGHT
BEGIN:STANDARD
TZOFFSETFROM:+0200
TZOFFSETTO:+0100
TZNAME:CET
DTSTART:20261025T010000
END:STANDARD
BEGIN:DAYLIGHT
TZOFFSETFROM:+0100
TZOFFSETTO:+0200
TZNAME:CEST
DTSTART:20270328T010000
END:DAYLIGHT
BEGIN:STANDARD
TZOFFSETFROM:+0200
TZOFFSETTO:+0100
TZNAME:CET
DTSTART:20271031T010000
END:STANDARD
END:VTIMEZONE
BEGIN:VEVENT
DTSTART;TZID=Europe/Berlin:20260219T183000
DTEND;TZID=Europe/Berlin:20260219T193000
DTSTAMP:20260419T193337
CREATED:20260218T074400Z
LAST-MODIFIED:20260218T074500Z
UID:432-1771525800-1771529400@mgv-windheim.de
SUMMARY:Chorprobe
DESCRIPTION:Neben den bereits im Januar kurz angesungenen Liedern bitte mitbringen: \n\nSanctus\nDie Rose\nStraßen unserer Stadt\nHeute hier\, morgen dort (muss wohl noch kopiert werden)
URL:https://mgv-windheim.de/termin/chorprobe-27/
LOCATION:Gemeindehaus/Haus Curia\, Dorfstr. 6\, Petershagen\, 32469
CATEGORIES:Chorprobe
END:VEVENT
END:VCALENDAR