BEGIN:VCALENDAR
VERSION:2.0
PRODID:-//mgv-windheim.de - ECPv6.15.20//NONSGML v1.0//EN
CALSCALE:GREGORIAN
METHOD:PUBLISH
X-ORIGINAL-URL:https://mgv-windheim.de
X-WR-CALDESC:Veranstaltungen für mgv-windheim.de
REFRESH-INTERVAL;VALUE=DURATION:PT1H
X-Robots-Tag:noindex
X-PUBLISHED-TTL:PT1H
BEGIN:VTIMEZONE
TZID:Europe/Berlin
BEGIN:DAYLIGHT
TZOFFSETFROM:+0100
TZOFFSETTO:+0200
TZNAME:CEST
DTSTART:20240331T010000
END:DAYLIGHT
BEGIN:STANDARD
TZOFFSETFROM:+0200
TZOFFSETTO:+0100
TZNAME:CET
DTSTART:20241027T010000
END:STANDARD
BEGIN:DAYLIGHT
TZOFFSETFROM:+0100
TZOFFSETTO:+0200
TZNAME:CEST
DTSTART:20250330T010000
END:DAYLIGHT
BEGIN:STANDARD
TZOFFSETFROM:+0200
TZOFFSETTO:+0100
TZNAME:CET
DTSTART:20251026T010000
END:STANDARD
BEGIN:DAYLIGHT
TZOFFSETFROM:+0100
TZOFFSETTO:+0200
TZNAME:CEST
DTSTART:20260329T010000
END:DAYLIGHT
BEGIN:STANDARD
TZOFFSETFROM:+0200
TZOFFSETTO:+0100
TZNAME:CET
DTSTART:20261025T010000
END:STANDARD
END:VTIMEZONE
BEGIN:VEVENT
DTSTART;TZID=Europe/Berlin:20251205T183000
DTEND;TZID=Europe/Berlin:20251205T220000
DTSTAMP:20260423T113711
CREATED:20251119T152507Z
LAST-MODIFIED:20251129T103349Z
UID:397-1764959400-1764972000@mgv-windheim.de
SUMMARY:Weihnachtsfeier
DESCRIPTION:Anmeldung erforderlich!
URL:https://mgv-windheim.de/termin/weihnachtsfeier/
LOCATION:Humbkes Weinstuben\, Weserstraße 9\, Petershagen\, 32457\, Germany
CATEGORIES:Intern
END:VEVENT
END:VCALENDAR