BEGIN:VCALENDAR
VERSION:2.0
PRODID:-//mgv-windheim.de - ECPv6.15.20//NONSGML v1.0//EN
CALSCALE:GREGORIAN
METHOD:PUBLISH
X-ORIGINAL-URL:https://mgv-windheim.de
X-WR-CALDESC:Veranstaltungen für mgv-windheim.de
REFRESH-INTERVAL;VALUE=DURATION:PT1H
X-Robots-Tag:noindex
X-PUBLISHED-TTL:PT1H
BEGIN:VTIMEZONE
TZID:Europe/Berlin
BEGIN:DAYLIGHT
TZOFFSETFROM:+0100
TZOFFSETTO:+0200
TZNAME:CEST
DTSTART:20240331T010000
END:DAYLIGHT
BEGIN:STANDARD
TZOFFSETFROM:+0200
TZOFFSETTO:+0100
TZNAME:CET
DTSTART:20241027T010000
END:STANDARD
BEGIN:DAYLIGHT
TZOFFSETFROM:+0100
TZOFFSETTO:+0200
TZNAME:CEST
DTSTART:20250330T010000
END:DAYLIGHT
BEGIN:STANDARD
TZOFFSETFROM:+0200
TZOFFSETTO:+0100
TZNAME:CET
DTSTART:20251026T010000
END:STANDARD
BEGIN:DAYLIGHT
TZOFFSETFROM:+0100
TZOFFSETTO:+0200
TZNAME:CEST
DTSTART:20260329T010000
END:DAYLIGHT
BEGIN:STANDARD
TZOFFSETFROM:+0200
TZOFFSETTO:+0100
TZNAME:CET
DTSTART:20261025T010000
END:STANDARD
END:VTIMEZONE
BEGIN:VEVENT
DTSTART;TZID=Europe/Berlin:20250814T183000
DTEND;TZID=Europe/Berlin:20250814T193000
DTSTAMP:20260420T093809
CREATED:20250308T082328Z
LAST-MODIFIED:20250418T173308Z
UID:173-1755196200-1755199800@mgv-windheim.de
SUMMARY:Chorprobe
DESCRIPTION:
URL:https://mgv-windheim.de/termin/chorprobe-8/
LOCATION:Gemeindehaus/Haus Curia\, Dorfstr. 6\, Petershagen\, 32469
CATEGORIES:Chorprobe
END:VEVENT
BEGIN:VEVENT
DTSTART;TZID=Europe/Berlin:20250821T183000
DTEND;TZID=Europe/Berlin:20250821T193000
DTSTAMP:20260420T093809
CREATED:20250308T082251Z
LAST-MODIFIED:20250821T064018Z
UID:171-1755801000-1755804600@mgv-windheim.de
SUMMARY:Chorprobe - !!! in der Kirche !!!
DESCRIPTION:
URL:https://mgv-windheim.de/termin/chorprobe-7/
LOCATION:Kirche Windheim
CATEGORIES:Chorprobe
END:VEVENT
END:VCALENDAR